BEGIN:VCALENDAR
VERSION:2.0
CALSCALE:GREGORIAN
PRODID:adamgibbons/ics
METHOD:PUBLISH
X-PUBLISHED-TTL:PT1H
BEGIN:VEVENT
UID:7pJrtkhWxJoFLG_4tMua2
SUMMARY:World Series 2026
DTSTAMP:20260425T142024Z
DTSTART;VALUE=DATE:20261023
DTEND;VALUE=DATE:20261102
DESCRIPTION:The World Series is the championship series of Major League Bas
	eball. Watch the best teams from the American and National leagues compete
	 for the title.
LOCATION:TBD\, TBD\, United States
STATUS:CONFIRMED
X-MICROSOFT-CDO-BUSYSTATUS:FREE
END:VEVENT
END:VCALENDAR
