BEGIN:VCALENDAR
VERSION:2.0
CALSCALE:GREGORIAN
PRODID:adamgibbons/ics
METHOD:PUBLISH
X-PUBLISHED-TTL:PT1H
BEGIN:VEVENT
UID:buPQ3fAd3D4xmYE0TsZ4-
SUMMARY:World Mental Health Day 2026
DTSTAMP:20260425T143839Z
DTSTART;VALUE=DATE:20261010
DTEND;VALUE=DATE:20261011
DESCRIPTION:World Mental Health Day raises awareness of mental health issue
	s and mobilizes efforts to support mental health. Breaking the stigma arou
	nd mental illness.
STATUS:CONFIRMED
X-MICROSOFT-CDO-BUSYSTATUS:FREE
END:VEVENT
END:VCALENDAR
