BEGIN:VCALENDAR
VERSION:2.0
CALSCALE:GREGORIAN
PRODID:adamgibbons/ics
METHOD:PUBLISH
X-PUBLISHED-TTL:PT1H
BEGIN:VEVENT
UID:z9AdCTv1rjAbHB0N5J6b1
SUMMARY:World Kindness Day 2026
DTSTAMP:20260425T142900Z
DTSTART;VALUE=DATE:20261113
DTEND;VALUE=DATE:20261114
DESCRIPTION:World Kindness Day encourages individuals to look beyond themse
	lves and their countries to the wider world. A day to promote kindness and
	 compassion.
STATUS:CONFIRMED
X-MICROSOFT-CDO-BUSYSTATUS:FREE
END:VEVENT
END:VCALENDAR
