BEGIN:VCALENDAR
VERSION:2.0
CALSCALE:GREGORIAN
PRODID:adamgibbons/ics
METHOD:PUBLISH
X-PUBLISHED-TTL:PT1H
BEGIN:VEVENT
UID:XGnQgT25aDfdEn_uNwcHv
SUMMARY:World Health Day 2026
DTSTAMP:20260425T143312Z
DTSTART;VALUE=DATE:20260407
DTEND;VALUE=DATE:20260408
DESCRIPTION:World Health Day raises awareness about global health issues an
	d mobilizes action for health equity. Each year focuses on a specific heal
	th theme.
STATUS:CONFIRMED
X-MICROSOFT-CDO-BUSYSTATUS:FREE
END:VEVENT
END:VCALENDAR
