BEGIN:VCALENDAR
VERSION:2.0
CALSCALE:GREGORIAN
PRODID:adamgibbons/ics
METHOD:PUBLISH
X-PUBLISHED-TTL:PT1H
BEGIN:VEVENT
UID:43Hf_qNUyRFWrl5FWVqQu
SUMMARY:World Environment Day 2026
DTSTAMP:20260425T142706Z
DTSTART;VALUE=DATE:20260605
DTEND;VALUE=DATE:20260606
DESCRIPTION:World Environment Day is the United Nations day for encouraging
	 worldwide awareness and action to protect our environment. Celebrated in 
	over 150 countries.
STATUS:CONFIRMED
X-MICROSOFT-CDO-BUSYSTATUS:FREE
END:VEVENT
END:VCALENDAR
