BEGIN:VCALENDAR
VERSION:2.0
CALSCALE:GREGORIAN
PRODID:adamgibbons/ics
METHOD:PUBLISH
X-PUBLISHED-TTL:PT1H
BEGIN:VEVENT
UID:lcxxCCDCiWf1CGwqUjUsy
SUMMARY:Wolf Supermoon 2026
DTSTAMP:20260425T141809Z
DTSTART;VALUE=DATE:20260103
DTEND;VALUE=DATE:20260104
DESCRIPTION:The Wolf Moon is January's full moon. In 2026\, it's also a sup
	ermoon\, appearing larger and brighter as the Moon is closer to Earth in i
	ts orbit.
STATUS:CONFIRMED
X-MICROSOFT-CDO-BUSYSTATUS:FREE
END:VEVENT
END:VCALENDAR
