BEGIN:VCALENDAR
VERSION:2.0
CALSCALE:GREGORIAN
PRODID:adamgibbons/ics
METHOD:PUBLISH
X-PUBLISHED-TTL:PT1H
BEGIN:VEVENT
UID:VldevZKipBfBrnqbps6ap
SUMMARY:Winter Solstice 2026
DTSTAMP:20260425T141834Z
DTSTART;VALUE=DATE:20261221
DTEND;VALUE=DATE:20261222
DESCRIPTION:The winter solstice is the shortest day of the year in the Nort
	hern Hemisphere\, marking the astronomical beginning of winter. After this
	\, days begin to lengthen.
STATUS:CONFIRMED
X-MICROSOFT-CDO-BUSYSTATUS:FREE
END:VEVENT
END:VCALENDAR
