BEGIN:VCALENDAR
VERSION:2.0
CALSCALE:GREGORIAN
PRODID:adamgibbons/ics
METHOD:PUBLISH
X-PUBLISHED-TTL:PT1H
BEGIN:VEVENT
UID:ABB9vwzQUjFCi8b3Y7KYP
SUMMARY:Winter Paralympics 2026
DTSTAMP:20260425T142900Z
DTSTART;VALUE=DATE:20260306
DTEND;VALUE=DATE:20260316
DESCRIPTION:The 2026 Winter Paralympics showcase incredible para-athletes c
	ompeting at the highest level in winter sports including alpine skiing\, b
	iathlon\, and ice hockey.
LOCATION:Various Venues\, Milano-Cortina\, Italy
STATUS:CONFIRMED
X-MICROSOFT-CDO-BUSYSTATUS:FREE
END:VEVENT
END:VCALENDAR
