BEGIN:VCALENDAR
VERSION:2.0
CALSCALE:GREGORIAN
PRODID:adamgibbons/ics
METHOD:PUBLISH
X-PUBLISHED-TTL:PT1H
BEGIN:VEVENT
UID:QX_MGqmK9w1gdypPzLGg9
SUMMARY:Winter Olympics 2026 - Milano Cortina
DTSTAMP:20260425T142718Z
DTSTART;VALUE=DATE:20260206
DTEND;VALUE=DATE:20260223
DESCRIPTION:The 2026 Winter Olympics will be held in Milano-Cortina\, Italy
	. Watch athletes from around the world compete in skiing\, skating\, hocke
	y\, and other winter sports.
LOCATION:Various Venues\, Milano-Cortina\, Italy
STATUS:CONFIRMED
X-MICROSOFT-CDO-BUSYSTATUS:FREE
END:VEVENT
END:VCALENDAR
