BEGIN:VCALENDAR
VERSION:2.0
CALSCALE:GREGORIAN
PRODID:adamgibbons/ics
METHOD:PUBLISH
X-PUBLISHED-TTL:PT1H
BEGIN:VEVENT
UID:LjFeOJus7TbBixUkLcohS
SUMMARY:Wimbledon 2026
DTSTAMP:20260425T142444Z
DTSTART;VALUE=DATE:20260629
DTEND;VALUE=DATE:20260713
DESCRIPTION:Wimbledon is the oldest and most prestigious tennis tournament 
	in the world. Watch the best players compete on the iconic grass courts of
	 the All England Club.
LOCATION:All England Lawn Tennis Club\, London\, United Kingdom
STATUS:CONFIRMED
X-MICROSOFT-CDO-BUSYSTATUS:FREE
END:VEVENT
END:VCALENDAR
