BEGIN:VCALENDAR
VERSION:2.0
CALSCALE:GREGORIAN
PRODID:adamgibbons/ics
METHOD:PUBLISH
X-PUBLISHED-TTL:PT1H
BEGIN:VEVENT
UID:XmnURXGxFqwtYLbCfYtkO
SUMMARY:Valentine's Day 2026
DTSTAMP:20260425T142706Z
DTSTART;VALUE=DATE:20260214
DTEND;VALUE=DATE:20260215
DESCRIPTION:Valentine's Day is a celebration of love and affection. Exchang
	e cards\, flowers\, chocolates\, and heartfelt messages with your special 
	someone.
STATUS:CONFIRMED
X-MICROSOFT-CDO-BUSYSTATUS:FREE
END:VEVENT
END:VCALENDAR
