BEGIN:VCALENDAR
VERSION:2.0
CALSCALE:GREGORIAN
PRODID:adamgibbons/ics
METHOD:PUBLISH
X-PUBLISHED-TTL:PT1H
BEGIN:VEVENT
UID:dB4-DwByKWSXNbIDtvTmg
SUMMARY:US Open Tennis 2026
DTSTAMP:20260425T143015Z
DTSTART;VALUE=DATE:20260831
DTEND;VALUE=DATE:20260914
DESCRIPTION:The US Open is the final Grand Slam of the tennis season. Exper
	ience world-class tennis at the USTA Billie Jean King National Tennis Cent
	er in New York.
LOCATION:USTA Billie Jean King National Tennis Center\, New York\, United S
	tates
STATUS:CONFIRMED
X-MICROSOFT-CDO-BUSYSTATUS:FREE
END:VEVENT
END:VCALENDAR
