BEGIN:VCALENDAR
VERSION:2.0
CALSCALE:GREGORIAN
PRODID:adamgibbons/ics
METHOD:PUBLISH
X-PUBLISHED-TTL:PT1H
BEGIN:VEVENT
UID:8vKkiI1aITkUtcqILQ3yl
SUMMARY:Tour de France 2026
DTSTAMP:20260425T143408Z
DTSTART;VALUE=DATE:20260704
DTEND;VALUE=DATE:20260727
DESCRIPTION:The Tour de France is the most prestigious cycling race in the 
	world. Watch elite cyclists battle through mountains and sprints across Fr
	ance.
LOCATION:Various Routes\, France\, France
STATUS:CONFIRMED
X-MICROSOFT-CDO-BUSYSTATUS:FREE
END:VEVENT
END:VCALENDAR
