BEGIN:VCALENDAR
VERSION:2.0
CALSCALE:GREGORIAN
PRODID:adamgibbons/ics
METHOD:PUBLISH
X-PUBLISHED-TTL:PT1H
BEGIN:VEVENT
UID:HJLE2LucJIf7h8_o_Jwpy
SUMMARY:Total Solar Eclipse - August 2026
DTSTAMP:20260425T142545Z
DTSTART;VALUE=DATE:20260812
DTEND;VALUE=DATE:20260813
DESCRIPTION:A total solar eclipse will be visible from Greenland\, Iceland\
	, Spain\, and parts of the North Atlantic. Experience the awe of totality 
	as the Moon completely covers the Sun.
STATUS:CONFIRMED
X-MICROSOFT-CDO-BUSYSTATUS:FREE
END:VEVENT
END:VCALENDAR
