BEGIN:VCALENDAR
VERSION:2.0
CALSCALE:GREGORIAN
PRODID:adamgibbons/ics
METHOD:PUBLISH
X-PUBLISHED-TTL:PT1H
BEGIN:VEVENT
UID:w__jRseU8ZCRvWqRPJ_90
SUMMARY:Total Lunar Eclipse - Blood Moon 2026
DTSTAMP:20260425T142744Z
DTSTART;VALUE=DATE:20260303
DTEND;VALUE=DATE:20260304
DESCRIPTION:A total lunar eclipse turns the Moon a reddish color\, earning 
	the name "Blood Moon." This eclipse will be visible from the Americas\, Eu
	rope\, and Africa.
STATUS:CONFIRMED
X-MICROSOFT-CDO-BUSYSTATUS:FREE
END:VEVENT
END:VCALENDAR
