BEGIN:VCALENDAR
VERSION:2.0
CALSCALE:GREGORIAN
PRODID:adamgibbons/ics
METHOD:PUBLISH
X-PUBLISHED-TTL:PT1H
BEGIN:VEVENT
UID:UG7khHH0yBooeDZLqVcy1
SUMMARY:Thanksgiving 2026 (US)
DTSTAMP:20260425T142539Z
DTSTART;VALUE=DATE:20261126
DTEND;VALUE=DATE:20261127
DESCRIPTION:Thanksgiving is a time to give thanks and enjoy a feast with fa
	mily and friends. Traditional foods include turkey\, stuffing\, cranberry 
	sauce\, and pumpkin pie.
STATUS:CONFIRMED
X-MICROSOFT-CDO-BUSYSTATUS:FREE
END:VEVENT
END:VCALENDAR
