BEGIN:VCALENDAR
VERSION:2.0
CALSCALE:GREGORIAN
PRODID:adamgibbons/ics
METHOD:PUBLISH
X-PUBLISHED-TTL:PT1H
BEGIN:VEVENT
UID:y54s2h-z37uiYG8BY7KWN
SUMMARY:SXSW 2026
DTSTAMP:20260425T141834Z
DTSTART;VALUE=DATE:20260313
DTEND;VALUE=DATE:20260323
DESCRIPTION:South by Southwest (SXSW) is an annual festival celebrating the
	 convergence of interactive\, film\, and music industries. A hub for innov
	ation and creativity.
LOCATION:Austin Convention Center\, Austin\, United States
STATUS:CONFIRMED
X-MICROSOFT-CDO-BUSYSTATUS:FREE
END:VEVENT
END:VCALENDAR
