BEGIN:VCALENDAR
VERSION:2.0
CALSCALE:GREGORIAN
PRODID:adamgibbons/ics
METHOD:PUBLISH
X-PUBLISHED-TTL:PT1H
BEGIN:VEVENT
UID:ZO9vdZGWEdPjoD8E72ivS
SUMMARY:Super Bowl LX
DTSTAMP:20260425T143009Z
DTSTART;VALUE=DATE:20260208
DTEND;VALUE=DATE:20260209
DESCRIPTION:Super Bowl LX is the championship game of the NFL. Watch the tw
	o best teams compete for the Lombardi Trophy in this iconic sporting event
	 featuring halftime performances.
LOCATION:Levi's Stadium\, Santa Clara\, United States
STATUS:CONFIRMED
X-MICROSOFT-CDO-BUSYSTATUS:FREE
END:VEVENT
END:VCALENDAR
