BEGIN:VCALENDAR
VERSION:2.0
CALSCALE:GREGORIAN
PRODID:adamgibbons/ics
METHOD:PUBLISH
X-PUBLISHED-TTL:PT1H
BEGIN:VEVENT
UID:xMPsj31NcAMsacA1pzkPP
SUMMARY:Summer Solstice 2026
DTSTAMP:20260425T141855Z
DTSTART;VALUE=DATE:20260621
DTEND;VALUE=DATE:20260622
DESCRIPTION:The summer solstice is the longest day of the year in the North
	ern Hemisphere\, marking the astronomical beginning of summer. The Sun rea
	ches its highest point.
STATUS:CONFIRMED
X-MICROSOFT-CDO-BUSYSTATUS:FREE
END:VEVENT
END:VCALENDAR
