BEGIN:VCALENDAR
VERSION:2.0
CALSCALE:GREGORIAN
PRODID:adamgibbons/ics
METHOD:PUBLISH
X-PUBLISHED-TTL:PT1H
BEGIN:VEVENT
UID:SUddg0mu2dKZZsGAPyD_t
SUMMARY:St. Patrick's Day 2026
DTSTAMP:20260425T142213Z
DTSTART;VALUE=DATE:20260317
DTEND;VALUE=DATE:20260318
DESCRIPTION:St. Patrick's Day celebrates Irish culture and heritage. Enjoy 
	parades\, traditional music\, green attire\, and celebrations worldwide ho
	noring Ireland's patron saint.
STATUS:CONFIRMED
X-MICROSOFT-CDO-BUSYSTATUS:FREE
END:VEVENT
END:VCALENDAR
