BEGIN:VCALENDAR
VERSION:2.0
CALSCALE:GREGORIAN
PRODID:adamgibbons/ics
METHOD:PUBLISH
X-PUBLISHED-TTL:PT1H
BEGIN:VEVENT
UID:h2W6uSncOeQtpEuG7GcMM
SUMMARY:Spring Equinox 2026
DTSTAMP:20260425T142121Z
DTSTART;VALUE=DATE:20260320
DTEND;VALUE=DATE:20260321
DESCRIPTION:The spring (vernal) equinox marks the astronomical beginning of
	 spring in the Northern Hemisphere. Day and night are approximately equal 
	in length.
STATUS:CONFIRMED
X-MICROSOFT-CDO-BUSYSTATUS:FREE
END:VEVENT
END:VCALENDAR
