BEGIN:VCALENDAR
VERSION:2.0
CALSCALE:GREGORIAN
PRODID:adamgibbons/ics
METHOD:PUBLISH
X-PUBLISHED-TTL:PT1H
BEGIN:VEVENT
UID:0gdyJvD5sCrQG8uE-30Vp
SUMMARY:Rio Carnival 2026
DTSTAMP:20260425T142718Z
DTSTART;VALUE=DATE:20260214
DTEND;VALUE=DATE:20260222
DESCRIPTION:Rio Carnival is the world's largest carnival celebration. Exper
	ience the spectacular samba parades\, elaborate costumes\, and vibrant str
	eet parties in Rio de Janeiro.
STATUS:CONFIRMED
X-MICROSOFT-CDO-BUSYSTATUS:FREE
END:VEVENT
END:VCALENDAR
