BEGIN:VCALENDAR
VERSION:2.0
CALSCALE:GREGORIAN
PRODID:adamgibbons/ics
METHOD:PUBLISH
X-PUBLISHED-TTL:PT1H
BEGIN:VEVENT
UID:DfRb0zAzTSaWMmCGqz3Jy
SUMMARY:Ramadan 2026
DTSTAMP:20260425T141706Z
DTSTART;VALUE=DATE:20260218
DTEND;VALUE=DATE:20260320
DESCRIPTION:Ramadan is the ninth month of the Islamic calendar\, observed b
	y Muslims worldwide as a month of fasting\, prayer\, reflection\, and comm
	unity.
STATUS:CONFIRMED
X-MICROSOFT-CDO-BUSYSTATUS:FREE
END:VEVENT
END:VCALENDAR
