BEGIN:VCALENDAR
VERSION:2.0
CALSCALE:GREGORIAN
PRODID:adamgibbons/ics
METHOD:PUBLISH
X-PUBLISHED-TTL:PT1H
BEGIN:VEVENT
UID:P60bYn8LDKj-E7OPtVmNh
SUMMARY:Quadrantids Meteor Shower 2026
DTSTAMP:20260425T143639Z
DTSTART;VALUE=DATE:20260103
DTEND;VALUE=DATE:20260105
DESCRIPTION:The Quadrantids meteor shower peaks in early January\, producin
	g up to 120 meteors per hour. One of the best annual meteor showers with b
	right fireballs.
STATUS:CONFIRMED
X-MICROSOFT-CDO-BUSYSTATUS:FREE
END:VEVENT
END:VCALENDAR
