BEGIN:VCALENDAR
VERSION:2.0
CALSCALE:GREGORIAN
PRODID:adamgibbons/ics
METHOD:PUBLISH
X-PUBLISHED-TTL:PT1H
BEGIN:VEVENT
UID:HJ_aLxic6SBA0qdQwmGeX
SUMMARY:Perseids Meteor Shower 2026
DTSTAMP:20260425T143511Z
DTSTART;VALUE=DATE:20260812
DTEND;VALUE=DATE:20260814
DESCRIPTION:The Perseids are the most popular meteor shower\, producing up 
	to 100 meteors per hour. Bright meteors streak across warm summer nights.
STATUS:CONFIRMED
X-MICROSOFT-CDO-BUSYSTATUS:FREE
END:VEVENT
END:VCALENDAR
