BEGIN:VCALENDAR
VERSION:2.0
CALSCALE:GREGORIAN
PRODID:adamgibbons/ics
METHOD:PUBLISH
X-PUBLISHED-TTL:PT1H
BEGIN:VEVENT
UID:Aa3fK4zS9J62RC77ipiTS
SUMMARY:Passover 2026
DTSTAMP:20260425T141645Z
DTSTART;VALUE=DATE:20260402
DTEND;VALUE=DATE:20260411
DESCRIPTION:Passover (Pesach) is a major Jewish holiday commemorating the l
	iberation of the Israelites from slavery in Egypt. Celebrated with the Sed
	er meal and traditions.
STATUS:CONFIRMED
X-MICROSOFT-CDO-BUSYSTATUS:FREE
END:VEVENT
END:VCALENDAR
