BEGIN:VCALENDAR
VERSION:2.0
CALSCALE:GREGORIAN
PRODID:adamgibbons/ics
METHOD:PUBLISH
X-PUBLISHED-TTL:PT1H
BEGIN:VEVENT
UID:-BRHeaRN-DKgngsU8I2Rl
SUMMARY:Oktoberfest 2026
DTSTAMP:20260425T142830Z
DTSTART;VALUE=DATE:20260919
DTEND;VALUE=DATE:20261005
DESCRIPTION:Oktoberfest is the world's largest Volksfest\, held annually in
	 Munich. Enjoy traditional Bavarian beer\, food\, music\, and entertainmen
	t.
STATUS:CONFIRMED
X-MICROSOFT-CDO-BUSYSTATUS:FREE
END:VEVENT
END:VCALENDAR
