BEGIN:VCALENDAR
VERSION:2.0
CALSCALE:GREGORIAN
PRODID:adamgibbons/ics
METHOD:PUBLISH
X-PUBLISHED-TTL:PT1H
BEGIN:VEVENT
UID:3nACRGpw-Vt8KeoCVWzSw
SUMMARY:New Year's Eve 2026
DTSTAMP:20260425T143021Z
DTSTART;VALUE=DATE:20261231
DTEND;VALUE=DATE:20270101
DESCRIPTION:New Year's Eve is the final day of the year. Celebrate with par
	ties\, fireworks\, champagne toasts\, and the iconic midnight countdown to
	 welcome the new year.
STATUS:CONFIRMED
X-MICROSOFT-CDO-BUSYSTATUS:FREE
END:VEVENT
END:VCALENDAR
