BEGIN:VCALENDAR
VERSION:2.0
CALSCALE:GREGORIAN
PRODID:adamgibbons/ics
METHOD:PUBLISH
X-PUBLISHED-TTL:PT1H
BEGIN:VEVENT
UID:PY_0bPtl7W4QT3lK66r40
SUMMARY:New Year's Day 2026
DTSTAMP:20260425T142851Z
DTSTART;VALUE=DATE:20260101
DTEND;VALUE=DATE:20260102
DESCRIPTION:New Year's Day marks the beginning of the calendar year. It's a
	 time for fresh starts\, new resolutions\, and celebrating with family and
	 friends around the world.
STATUS:CONFIRMED
X-MICROSOFT-CDO-BUSYSTATUS:FREE
END:VEVENT
END:VCALENDAR
