BEGIN:VCALENDAR
VERSION:2.0
CALSCALE:GREGORIAN
PRODID:adamgibbons/ics
METHOD:PUBLISH
X-PUBLISHED-TTL:PT1H
BEGIN:VEVENT
UID:wKDLu-skVo2y3E5CacSB7
SUMMARY:Mother's Day 2026 (US)
DTSTAMP:20260425T125509Z
DTSTART;VALUE=DATE:20260510
DTEND;VALUE=DATE:20260511
DESCRIPTION:Mother's Day is a day to honor mothers and mother figures. Show
	 appreciation with flowers\, cards\, gifts\, and quality time with the spe
	cial women in your life.
STATUS:CONFIRMED
X-MICROSOFT-CDO-BUSYSTATUS:FREE
END:VEVENT
END:VCALENDAR
