BEGIN:VCALENDAR
VERSION:2.0
CALSCALE:GREGORIAN
PRODID:adamgibbons/ics
METHOD:PUBLISH
X-PUBLISHED-TTL:PT1H
BEGIN:VEVENT
UID:ZRz5xTZ_7rJcyiS_okxOy
SUMMARY:Mobile World Congress 2026
DTSTAMP:20260425T142851Z
DTSTART;VALUE=DATE:20260223
DTEND;VALUE=DATE:20260227
DESCRIPTION:Mobile World Congress is the world's largest mobile industry ev
	ent. See the latest smartphones\, 5G tech\, IoT innovations\, and network 
	technologies.
LOCATION:Fira Gran Via\, Barcelona\, Spain
STATUS:CONFIRMED
X-MICROSOFT-CDO-BUSYSTATUS:FREE
END:VEVENT
END:VCALENDAR
