BEGIN:VCALENDAR
VERSION:2.0
CALSCALE:GREGORIAN
PRODID:adamgibbons/ics
METHOD:PUBLISH
X-PUBLISHED-TTL:PT1H
BEGIN:VEVENT
UID:g1v-iNxlRg7RYN9vAQZr3
SUMMARY:Meta Connect 2026
DTSTAMP:20260425T142445Z
DTSTART;VALUE=DATE:20260917
DTEND;VALUE=DATE:20260919
DESCRIPTION:Meta Connect is Meta's annual showcase for virtual reality\, au
	gmented reality\, and metaverse technologies. See the latest Quest devices
	 and AI innovations.
LOCATION:Meta HQ\, Menlo Park\, United States
STATUS:CONFIRMED
X-MICROSOFT-CDO-BUSYSTATUS:FREE
END:VEVENT
END:VCALENDAR
