BEGIN:VCALENDAR
VERSION:2.0
CALSCALE:GREGORIAN
PRODID:adamgibbons/ics
METHOD:PUBLISH
X-PUBLISHED-TTL:PT1H
BEGIN:VEVENT
UID:i__4p1CgUfPIR203rovUM
SUMMARY:Mardi Gras 2026
DTSTAMP:20260425T142611Z
DTSTART;VALUE=DATE:20260217
DTEND;VALUE=DATE:20260218
DESCRIPTION:Mardi Gras\, or Fat Tuesday\, is the final day of Carnival befo
	re Lent begins. New Orleans hosts the most famous celebration with parades
	\, costumes\, and revelry.
STATUS:CONFIRMED
X-MICROSOFT-CDO-BUSYSTATUS:FREE
END:VEVENT
END:VCALENDAR
