BEGIN:VCALENDAR
VERSION:2.0
CALSCALE:GREGORIAN
PRODID:adamgibbons/ics
METHOD:PUBLISH
X-PUBLISHED-TTL:PT1H
BEGIN:VEVENT
UID:0f3hVoP-XKjM2pAjhZ1JQ
SUMMARY:March Madness Final Four 2026
DTSTAMP:20260425T142300Z
DTSTART;VALUE=DATE:20260404
DTEND;VALUE=DATE:20260407
DESCRIPTION:The NCAA Tournament Final Four features the last four teams com
	peting for the national championship. Experience the excitement of March M
	adness basketball.
LOCATION:Lucas Oil Stadium\, Indianapolis\, United States
STATUS:CONFIRMED
X-MICROSOFT-CDO-BUSYSTATUS:FREE
END:VEVENT
END:VCALENDAR
