BEGIN:VCALENDAR
VERSION:2.0
CALSCALE:GREGORIAN
PRODID:adamgibbons/ics
METHOD:PUBLISH
X-PUBLISHED-TTL:PT1H
BEGIN:VEVENT
UID:yjxXImpHoda3lcXNPN5xj
SUMMARY:Lyrids Meteor Shower 2026
DTSTAMP:20260425T143511Z
DTSTART;VALUE=DATE:20260422
DTEND;VALUE=DATE:20260423
DESCRIPTION:The Lyrids are one of the oldest recorded meteor showers\, obse
	rved for 2\,700 years. Expect 10-20 meteors per hour at the peak.
STATUS:CONFIRMED
X-MICROSOFT-CDO-BUSYSTATUS:FREE
END:VEVENT
END:VCALENDAR
