BEGIN:VCALENDAR
VERSION:2.0
CALSCALE:GREGORIAN
PRODID:adamgibbons/ics
METHOD:PUBLISH
X-PUBLISHED-TTL:PT1H
BEGIN:VEVENT
UID:0_sVURE4uWocZ4la_nsW2
SUMMARY:Kentucky Derby 2026
DTSTAMP:20260425T130308Z
DTSTART;VALUE=DATE:20260502
DTEND;VALUE=DATE:20260503
DESCRIPTION:The Kentucky Derby is the premier horse racing event in America
	. Experience the tradition\, fashion\, mint juleps\, and thrilling racing 
	at Churchill Downs.
LOCATION:Churchill Downs\, Louisville\, United States
STATUS:CONFIRMED
X-MICROSOFT-CDO-BUSYSTATUS:FREE
END:VEVENT
END:VCALENDAR
