BEGIN:VCALENDAR
VERSION:2.0
CALSCALE:GREGORIAN
PRODID:adamgibbons/ics
METHOD:PUBLISH
X-PUBLISHED-TTL:PT1H
BEGIN:VEVENT
UID:av-zk7fCAzoVnJB2k02JI
SUMMARY:International Women's Day 2026
DTSTAMP:20260425T143235Z
DTSTART;VALUE=DATE:20260308
DTEND;VALUE=DATE:20260309
DESCRIPTION:International Women's Day celebrates the social\, economic\, cu
	ltural\, and political achievements of women while calling for gender equa
	lity.
STATUS:CONFIRMED
X-MICROSOFT-CDO-BUSYSTATUS:FREE
END:VEVENT
END:VCALENDAR
