BEGIN:VCALENDAR
VERSION:2.0
CALSCALE:GREGORIAN
PRODID:adamgibbons/ics
METHOD:PUBLISH
X-PUBLISHED-TTL:PT1H
BEGIN:VEVENT
UID:NUIQBdbH9mEkFzm9ZHBLn
SUMMARY:International Day of Peace 2026
DTSTAMP:20260425T143235Z
DTSTART;VALUE=DATE:20260921
DTEND;VALUE=DATE:20260922
DESCRIPTION:The International Day of Peace is devoted to strengthening the 
	ideals of peace among all nations and peoples. A day of global ceasefire a
	nd non-violence.
STATUS:CONFIRMED
X-MICROSOFT-CDO-BUSYSTATUS:FREE
END:VEVENT
END:VCALENDAR
