BEGIN:VCALENDAR
VERSION:2.0
CALSCALE:GREGORIAN
PRODID:adamgibbons/ics
METHOD:PUBLISH
X-PUBLISHED-TTL:PT1H
BEGIN:VEVENT
UID:VRL0gHvTglmoklddluhjt
SUMMARY:Independence Day 2026 (US)
DTSTAMP:20260425T142545Z
DTSTART;VALUE=DATE:20260704
DTEND;VALUE=DATE:20260705
DESCRIPTION:Independence Day commemorates the Declaration of Independence o
	f the United States. Celebrate with fireworks\, barbecues\, parades\, and 
	patriotic festivities.
STATUS:CONFIRMED
X-MICROSOFT-CDO-BUSYSTATUS:FREE
END:VEVENT
END:VCALENDAR
