BEGIN:VCALENDAR
VERSION:2.0
CALSCALE:GREGORIAN
PRODID:adamgibbons/ics
METHOD:PUBLISH
X-PUBLISHED-TTL:PT1H
BEGIN:VEVENT
UID:HXs4SxDhCKrbVRkjF_JcU
SUMMARY:Human Rights Day 2026
DTSTAMP:20260425T142050Z
DTSTART;VALUE=DATE:20261210
DTEND;VALUE=DATE:20261211
DESCRIPTION:Human Rights Day commemorates the adoption of the Universal Dec
	laration of Human Rights. A day to promote and protect human rights for al
	l.
STATUS:CONFIRMED
X-MICROSOFT-CDO-BUSYSTATUS:FREE
END:VEVENT
END:VCALENDAR
