BEGIN:VCALENDAR
VERSION:2.0
CALSCALE:GREGORIAN
PRODID:adamgibbons/ics
METHOD:PUBLISH
X-PUBLISHED-TTL:PT1H
BEGIN:VEVENT
UID:ynNnbz1aI_R7ECVvI54j5
SUMMARY:Holocaust Remembrance Day 2026
DTSTAMP:20260425T143640Z
DTSTART;VALUE=DATE:20260127
DTEND;VALUE=DATE:20260128
DESCRIPTION:International Holocaust Remembrance Day marks the liberation of
	 Auschwitz-Birkenau and honors the six million Jewish victims of the Holoc
	aust.
STATUS:CONFIRMED
X-MICROSOFT-CDO-BUSYSTATUS:FREE
END:VEVENT
END:VCALENDAR
