BEGIN:VCALENDAR
VERSION:2.0
CALSCALE:GREGORIAN
PRODID:adamgibbons/ics
METHOD:PUBLISH
X-PUBLISHED-TTL:PT1H
BEGIN:VEVENT
UID:dRQ2sdcZAl11HBR6jg3Qg
SUMMARY:Holi 2026 - Festival of Colors
DTSTAMP:20260425T141706Z
DTSTART;VALUE=DATE:20260304
DTEND;VALUE=DATE:20260305
DESCRIPTION:Holi is the Hindu festival of colors celebrating spring\, love\
	, and new beginnings. People throw colored powders and water\, dance\, and
	 celebrate together.
STATUS:CONFIRMED
X-MICROSOFT-CDO-BUSYSTATUS:FREE
END:VEVENT
END:VCALENDAR
