BEGIN:VCALENDAR
VERSION:2.0
CALSCALE:GREGORIAN
PRODID:adamgibbons/ics
METHOD:PUBLISH
X-PUBLISHED-TTL:PT1H
BEGIN:VEVENT
UID:FCSwF_sesuUCLVXVvdJ-w
SUMMARY:Hanukkah 2026
DTSTAMP:20260425T141855Z
DTSTART;VALUE=DATE:20261205
DTEND;VALUE=DATE:20261213
DESCRIPTION:Hanukkah is the Jewish Festival of Lights\, commemorating the r
	ededication of the Temple. Celebrated over eight nights with menorah light
	ing\, gifts\, and traditional foods.
STATUS:CONFIRMED
X-MICROSOFT-CDO-BUSYSTATUS:FREE
END:VEVENT
END:VCALENDAR
