BEGIN:VCALENDAR
VERSION:2.0
CALSCALE:GREGORIAN
PRODID:adamgibbons/ics
METHOD:PUBLISH
X-PUBLISHED-TTL:PT1H
BEGIN:VEVENT
UID:i-tezej4m_WhTXfwe0Pki
SUMMARY:Halloween 2026
DTSTAMP:20260425T141713Z
DTSTART;VALUE=DATE:20261031
DTEND;VALUE=DATE:20261101
DESCRIPTION:Halloween is a celebration of all things spooky and fun. Dress 
	up in costumes\, go trick-or-treating\, carve pumpkins\, and enjoy haunted
	 houses and parties.
STATUS:CONFIRMED
X-MICROSOFT-CDO-BUSYSTATUS:FREE
END:VEVENT
END:VCALENDAR
