BEGIN:VCALENDAR
VERSION:2.0
CALSCALE:GREGORIAN
PRODID:adamgibbons/ics
METHOD:PUBLISH
X-PUBLISHED-TTL:PT1H
BEGIN:VEVENT
UID:t4iJVrFgDTsFgoFlqprNm
SUMMARY:Google I/O 2026
DTSTAMP:20260425T124641Z
DTSTART;VALUE=DATE:20260512
DTEND;VALUE=DATE:20260515
DESCRIPTION:Google I/O is Google's annual developer conference featuring th
	e latest innovations in Android\, AI\, Cloud\, and Google's ecosystem of p
	roducts and services.
LOCATION:Shoreline Amphitheatre\, Mountain View\, United States
STATUS:CONFIRMED
X-MICROSOFT-CDO-BUSYSTATUS:FREE
END:VEVENT
END:VCALENDAR
