BEGIN:VCALENDAR
VERSION:2.0
CALSCALE:GREGORIAN
PRODID:adamgibbons/ics
METHOD:PUBLISH
X-PUBLISHED-TTL:PT1H
BEGIN:VEVENT
UID:uUQFBxcdTt-OpfmxHfiIj
SUMMARY:Geminids Meteor Shower 2026
DTSTAMP:20260425T143345Z
DTSTART;VALUE=DATE:20261213
DTEND;VALUE=DATE:20261215
DESCRIPTION:The Geminids produce up to 150 multicolored meteors per hour. C
	onsidered by many to be the best meteor shower of the year with bright\, s
	low-moving meteors.
STATUS:CONFIRMED
X-MICROSOFT-CDO-BUSYSTATUS:FREE
END:VEVENT
END:VCALENDAR
