BEGIN:VCALENDAR
VERSION:2.0
CALSCALE:GREGORIAN
PRODID:adamgibbons/ics
METHOD:PUBLISH
X-PUBLISHED-TTL:PT1H
BEGIN:VEVENT
UID:u7w85qsL4XrwFzcAOUB6m
SUMMARY:FIFA World Cup 2026
DTSTAMP:20260425T141959Z
DTSTART;VALUE=DATE:20260611
DTEND;VALUE=DATE:20260720
DESCRIPTION:The 2026 FIFA World Cup will be hosted by the United States\, C
	anada\, and Mexico. This expanded 48-team tournament will be the largest W
	orld Cup ever.
LOCATION:Various Stadiums\, Multiple Cities\, USA/Canada/Mexico
STATUS:CONFIRMED
X-MICROSOFT-CDO-BUSYSTATUS:FREE
END:VEVENT
END:VCALENDAR
