BEGIN:VCALENDAR
VERSION:2.0
CALSCALE:GREGORIAN
PRODID:adamgibbons/ics
METHOD:PUBLISH
X-PUBLISHED-TTL:PT1H
BEGIN:VEVENT
UID:Snr-_TDuy--f6jh2UBI-Q
SUMMARY:Father's Day 2026 (US)
DTSTAMP:20260425T142611Z
DTSTART;VALUE=DATE:20260621
DTEND;VALUE=DATE:20260622
DESCRIPTION:Father's Day honors fathers and father figures. Show your appre
	ciation with gifts\, activities\, and quality time with the important men 
	in your life.
STATUS:CONFIRMED
X-MICROSOFT-CDO-BUSYSTATUS:FREE
END:VEVENT
END:VCALENDAR
