BEGIN:VCALENDAR
VERSION:2.0
CALSCALE:GREGORIAN
PRODID:adamgibbons/ics
METHOD:PUBLISH
X-PUBLISHED-TTL:PT1H
BEGIN:VEVENT
UID:16hWkK_5P5J1VK4goY_X4
SUMMARY:Eid al-Fitr 2026
DTSTAMP:20260425T143009Z
DTSTART;VALUE=DATE:20260321
DTEND;VALUE=DATE:20260322
DESCRIPTION:Eid al-Fitr marks the end of Ramadan fasting. Muslims celebrate
	 with prayers\, feasting\, gift-giving\, and spending time with family and
	 friends.
STATUS:CONFIRMED
X-MICROSOFT-CDO-BUSYSTATUS:FREE
END:VEVENT
END:VCALENDAR
