BEGIN:VCALENDAR
VERSION:2.0
CALSCALE:GREGORIAN
PRODID:adamgibbons/ics
METHOD:PUBLISH
X-PUBLISHED-TTL:PT1H
BEGIN:VEVENT
UID:denjotfCQaS5FHZsMMSPI
SUMMARY:Eid al-Adha 2026
DTSTAMP:20260425T142830Z
DTSTART;VALUE=DATE:20260607
DTEND;VALUE=DATE:20260608
DESCRIPTION:Eid al-Adha is one of the most important Islamic holidays\, com
	memorating Ibrahim's willingness to sacrifice his son. Celebrated with pra
	yers\, feasting\, and charity.
STATUS:CONFIRMED
X-MICROSOFT-CDO-BUSYSTATUS:FREE
END:VEVENT
END:VCALENDAR
